BEGIN:VCALENDAR
VERSION:2.0
PRODID:-//wp-events-plugin.com//7.2.3.1//EN
BEGIN:VEVENT
UID:25@rostglanz.com
DTSTART;TZID=Europe/Berlin;VALUE=DATE:20250704
DTEND;TZID=Europe/Berlin;VALUE=DATE:20250707
DTSTAMP:20250615T161006Z
URL:https://rostglanz.com/events/v8-brothers-village-13/
SUMMARY:V8 Brothers Village #13
DESCRIPTION:Ein wunderschönes Rockabilly und USCar Event in Belgien\, dass
  2025 in seine 13. Auflage&nbsp\;\n\nSagenhafte 26 Gigs von DJs und Bands 
 und jede Menge USCars und Classic Cars sind das einfache Rezept\, das dies
 es Festival weit über die Landesgrenzen bekannt gemacht hat\n\n&nbsp\;\n\
 nAlle Infos bekommt ihr hier:&nbsp\;https://www.v8brothers.be/
ATTACH;FMTTYPE=image/jpeg:https://rostglanz.com/wp-content/uploads/2025/06
 /V8brothers.jpg
CATEGORIES:Festival,Oldtimer,Rockabilly Konzerte,Rods'n Kustoms,USCar
 Event
LOCATION:V8 Brothers Village\, Amersveldstraat 136\, Handzame\, 8610\, Belg
 ien
GEO:51.025671;3.003128
X-APPLE-STRUCTURED-LOCATION;VALUE=URI;X-ADDRESS=Amersveldstraat 136\, Handz
 ame\, 8610\, Belgien;X-APPLE-RADIUS=100;X-TITLE=V8 Brothers Village:geo:51
 .025671,3.003128
END:VEVENT
BEGIN:VTIMEZONE
TZID:Europe/Berlin
X-LIC-LOCATION:Europe/Berlin
BEGIN:DAYLIGHT
DTSTART:20250330T030000
TZOFFSETFROM:+0100
TZOFFSETTO:+0200
TZNAME:CEST
END:DAYLIGHT
END:VTIMEZONE
END:VCALENDAR